BEGIN:VCALENDAR
VERSION:2.0
PRODID:SchoolNow
CALSCALE:GREGORIAN
BEGIN:VEVENT
UID:a25c7d6c-5e9e-11f0-8e40-0a58a9feac02
DTSTAMP:20250711T213335Z
SUMMARY:Christmas Retreat Day for Students
URL;VALUE=URI:https://www.materdeicatholic.com/calendar/8406717/christmas-r
 etreat-day-for-students
DTSTART;VALUE=DATE:20251219
DTEND;VALUE=DATE:20251220
END:VEVENT
END:VCALENDAR
