BEGIN:VCALENDAR
VERSION:2.0
PRODID:SchoolNow
CALSCALE:GREGORIAN
BEGIN:VEVENT
UID:4aacb9ce-5e9e-11f0-8968-0a58a9feac02
DTSTAMP:20250711T213039Z
SUMMARY:Christmas Celebrations - K-Gr. 8
URL;VALUE=URI:https://www.materdeicatholic.com/calendar/8406715/christmas-c
 elebrations-k-gr-8
DTSTART;VALUE=DATE:20251218
DTEND;VALUE=DATE:20251219
END:VEVENT
END:VCALENDAR
