BEGIN:VCALENDAR
VERSION:2.0
PRODID:SchoolNow
CALSCALE:GREGORIAN
BEGIN:VEVENT
UID:25b31a00-5e9e-11f0-ae7a-0a58a9feac02
DTSTAMP:20250711T212937Z
SUMMARY:PreK Christmas Celebrations
URL;VALUE=URI:https://www.materdeicatholic.com/calendar/8406714/prek-christ
 mas-celebrations
DTSTART;VALUE=DATE:20251217
DTEND;VALUE=DATE:20251218
END:VEVENT
END:VCALENDAR
