BEGIN:VCALENDAR
VERSION:2.0
PRODID:SchoolNow
CALSCALE:GREGORIAN
BEGIN:VEVENT
UID:1448ab04-5e9e-11f0-a66b-02b0890989d9
DTSTAMP:20260125T221811Z
SUMMARY:Winter Concert
URL;VALUE=URI:https://www.materdeicatholic.com/calendar/8406713/christmas-c
 oncert
DTSTART:20260129T233000Z
DTEND:20260130T010000Z
END:VEVENT
END:VCALENDAR
