BEGIN:VCALENDAR
VERSION:2.0
PRODID:SchoolNow
CALSCALE:GREGORIAN
BEGIN:VEVENT
UID:98e92cd6-5e9d-11f0-8086-0a58a9feac02
DTSTAMP:20251215T144417Z
SUMMARY:PreK 4 Christmas Show
URL;VALUE=URI:https://www.materdeicatholic.com/calendar/8406712/prek-4-chri
 stmas-show
DTSTART:20251217T153000Z
DTEND:20251217T161500Z
END:VEVENT
END:VCALENDAR
