BEGIN:VCALENDAR
VERSION:2.0
PRODID:SchoolNow
CALSCALE:GREGORIAN
BEGIN:VEVENT
UID:84b7b7f0-5e9d-11f0-a35e-0a58a9feac02
DTSTAMP:20251215T144404Z
SUMMARY:PreK 3 Christmas Show
URL;VALUE=URI:https://www.materdeicatholic.com/calendar/8406711/prek-3-chri
 stmas-show
DTSTART:20251217T143000Z
DTEND:20251217T151500Z
END:VEVENT
END:VCALENDAR
