BEGIN:VCALENDAR
VERSION:2.0
PRODID:SchoolNow
CALSCALE:GREGORIAN
BEGIN:VEVENT
UID:30465bf4-5e9d-11f0-985a-0a58a9feac02
DTSTAMP:20250711T212246Z
SUMMARY:H&S Pot of Gold Raffle Tickets Distributed
URL;VALUE=URI:https://www.materdeicatholic.com/calendar/8406710/h-s-pot-of-
 gold-raffle-tickets-distributed
DTSTART;VALUE=DATE:20251215
DTEND;VALUE=DATE:20251216
END:VEVENT
END:VCALENDAR
