BEGIN:VCALENDAR
VERSION:2.0
PRODID:SchoolNow
CALSCALE:GREGORIAN
BEGIN:VEVENT
UID:46cd57ac-5e9c-11f0-ab43-0a58a9feac02
DTSTAMP:20251212T135415Z
SUMMARY:Report Cards
URL;VALUE=URI:https://www.materdeicatholic.com/calendar/8406708/report-card
 s
DTSTART;VALUE=DATE:20251215
DTEND;VALUE=DATE:20251216
END:VEVENT
END:VCALENDAR
