BEGIN:VCALENDAR
VERSION:2.0
PRODID:SchoolNow
CALSCALE:GREGORIAN
BEGIN:VEVENT
UID:b13de996-5e9a-11f0-a524-0a58a9feac02
DTSTAMP:20250711T210454Z
SUMMARY:Christmas Pageant
LOCATION:St. Stanislaus Church
URL;VALUE=URI:https://www.materdeicatholic.com/calendar/8406706/christmas-p
 ageant
DTSTART:20251209T233000Z
DTEND:20251210T003000Z
END:VEVENT
END:VCALENDAR
