BEGIN:VCALENDAR
VERSION:2.0
PRODID:SchoolNow
CALSCALE:GREGORIAN
BEGIN:VEVENT
UID:944075de-5e9a-11f0-ba1b-0a58a9feac02
DTSTAMP:20250711T210515Z
SUMMARY:Christmas Pageant
LOCATION:St. Stanislaus Church
URL;VALUE=URI:https://www.materdeicatholic.com/calendar/8406705/christmas-p
 ageant
DTSTART:20251209T183000Z
DTEND:20251209T193000Z
END:VEVENT
END:VCALENDAR
