BEGIN:VCALENDAR
VERSION:2.0
PRODID:SchoolNow
CALSCALE:GREGORIAN
BEGIN:VEVENT
UID:7ce509ae-5e9a-11f0-9edc-0a58a9feac02
DTSTAMP:20250711T210326Z
SUMMARY:Second Trimester Begins
URL;VALUE=URI:https://www.materdeicatholic.com/calendar/8406704/second-trim
 ester-begins
DTSTART;VALUE=DATE:20251209
DTEND;VALUE=DATE:20251210
END:VEVENT
END:VCALENDAR
