BEGIN:VCALENDAR
VERSION:2.0
PRODID:SchoolNow
CALSCALE:GREGORIAN
BEGIN:VEVENT
UID:6eeee018-5e9a-11f0-9bf0-023b860816c7
DTSTAMP:20250711T210302Z
SUMMARY:No School
URL;VALUE=URI:https://www.materdeicatholic.com/calendar/8406703/no-school
DTSTART;VALUE=DATE:20251208
DTEND;VALUE=DATE:20251209
END:VEVENT
END:VCALENDAR
