BEGIN:VCALENDAR
VERSION:2.0
PRODID:SchoolNow
CALSCALE:GREGORIAN
BEGIN:VEVENT
UID:4b64f358-5e9a-11f0-8ca2-0a58a9feac02
DTSTAMP:20251125T161405Z
SUMMARY:H&S Christmas Market
URL;VALUE=URI:https://www.materdeicatholic.com/calendar/8406702/h-s-christm
 as-market
DTSTART:20251207T140000Z
DTEND:20251207T180000Z
END:VEVENT
END:VCALENDAR
