BEGIN:VCALENDAR
VERSION:2.0
PRODID:SchoolNow
CALSCALE:GREGORIAN
BEGIN:VEVENT
UID:365b9be2-5e9a-11f0-962d-0a58a9feac02
DTSTAMP:20251125T161341Z
SUMMARY:H&S Christmas Market
URL;VALUE=URI:https://www.materdeicatholic.com/calendar/8406701/h-s-christm
 as-market
DTSTART:20251206T140000Z
DTEND:20251206T200000Z
END:VEVENT
END:VCALENDAR
