BEGIN:VCALENDAR
VERSION:2.0
PRODID:SchoolNow
CALSCALE:GREGORIAN
BEGIN:VEVENT
UID:fb81fc82-5e99-11f0-9380-0afffe51417b
DTSTAMP:20250711T205949Z
SUMMARY:End of First Trimester
URL;VALUE=URI:https://www.materdeicatholic.com/calendar/8406528/end-of-firs
 t-trimester
DTSTART;VALUE=DATE:20251205
DTEND;VALUE=DATE:20251206
END:VEVENT
END:VCALENDAR
