BEGIN:VCALENDAR
VERSION:2.0
PRODID:SchoolNow
CALSCALE:GREGORIAN
BEGIN:VEVENT
UID:e03aa4d8-5e99-11f0-868c-0a58a9feac02
DTSTAMP:20250711T205903Z
SUMMARY:Advent Confessions - Gr. 3-8
URL;VALUE=URI:https://www.materdeicatholic.com/calendar/8406527/advent-conf
 essions-gr-3-8
DTSTART;VALUE=DATE:20251201
DTEND;VALUE=DATE:20251206
END:VEVENT
END:VCALENDAR
