BEGIN:VCALENDAR
VERSION:2.0
PRODID:SchoolNow
CALSCALE:GREGORIAN
BEGIN:VEVENT
UID:c663488a-5e99-11f0-ac62-0a58a9feac02
DTSTAMP:20250711T205819Z
SUMMARY:Classes Resume
URL;VALUE=URI:https://www.materdeicatholic.com/calendar/8406526/classes-res
 ume
DTSTART;VALUE=DATE:20251201
DTEND;VALUE=DATE:20251202
END:VEVENT
END:VCALENDAR
