BEGIN:VCALENDAR
VERSION:2.0
PRODID:SchoolNow
CALSCALE:GREGORIAN
BEGIN:VEVENT
UID:b2294c98-5e99-11f0-9f58-0a58a9feac02
DTSTAMP:20250711T205746Z
SUMMARY:Thanksgiving Break
URL;VALUE=URI:https://www.materdeicatholic.com/calendar/8406525/thanksgivin
 g-break
DTSTART;VALUE=DATE:20251127
DTEND;VALUE=DATE:20251129
END:VEVENT
END:VCALENDAR
