BEGIN:VCALENDAR
VERSION:2.0
PRODID:SchoolNow
CALSCALE:GREGORIAN
BEGIN:VEVENT
UID:3c1228f4-5e99-11f0-8faa-0a58a9feac02
DTSTAMP:20250711T205427Z
SUMMARY:Advent Begins
URL;VALUE=URI:https://www.materdeicatholic.com/calendar/8406199/advent-begi
 ns
DTSTART;VALUE=DATE:20251130
DTEND;VALUE=DATE:20251201
END:VEVENT
END:VCALENDAR
