BEGIN:VCALENDAR
VERSION:2.0
PRODID:SchoolNow
CALSCALE:GREGORIAN
BEGIN:VEVENT
UID:2f88ed70-5e99-11f0-b3cf-0a58a9feac02
DTSTAMP:20250711T205406Z
SUMMARY:11:30 AM Early Dismissal
URL;VALUE=URI:https://www.materdeicatholic.com/calendar/8406198/11-30-am-ea
 rly-dismissal
DTSTART;VALUE=DATE:20251126
DTEND;VALUE=DATE:20251127
END:VEVENT
END:VCALENDAR
