BEGIN:VCALENDAR
VERSION:2.0
PRODID:SchoolNow
CALSCALE:GREGORIAN
BEGIN:VEVENT
UID:118c8796-5e99-11f0-b627-0210512b0f9d
DTSTAMP:20250711T210530Z
SUMMARY:Thanksgiving School Mass
LOCATION:St. Stanislaus Church
URL;VALUE=URI:https://www.materdeicatholic.com/calendar/8406197/thanksgivin
 g-school-mass
DTSTART:20251126T143000Z
DTEND:20251126T153000Z
END:VEVENT
END:VCALENDAR
