BEGIN:VCALENDAR
VERSION:2.0
PRODID:SchoolNow
CALSCALE:GREGORIAN
BEGIN:VEVENT
UID:6c431d18-5e98-11f0-8cfa-02b0890989d9
DTSTAMP:20251111T191318Z
SUMMARY:H&S Family Bingo
URL;VALUE=URI:https://www.materdeicatholic.com/calendar/8406196/h-s-family-
 bingo
DTSTART:20260313T220000Z
DTEND:20260314T000000Z
END:VEVENT
END:VCALENDAR
