BEGIN:VCALENDAR
VERSION:2.0
PRODID:SchoolNow
CALSCALE:GREGORIAN
BEGIN:VEVENT
UID:73738156-5dce-11f0-95ec-0a58a9feac02
DTSTAMP:20250710T204253Z
SUMMARY:Panera Dine and Donate
URL;VALUE=URI:https://www.materdeicatholic.com/calendar/8403862/panera-dine
 -and-donate
DTSTART:20250811T200000Z
DTEND:20250812T000000Z
ATTACH;FILENAME=Panera - August.pdf;FMTTYPE=application/pdf:https://campuss
 uite-storage.s3.amazonaws.com/prod/1558557/ecb9f00c-697c-11e8-a56f-0a29683
 2838c/2980519/f7ff03f6-5dcd-11f0-ba1d-0afffb6250df/file/Panera - August.pd
 f
END:VEVENT
END:VCALENDAR
