BEGIN:VCALENDAR
VERSION:2.0
PRODID:SchoolNow
CALSCALE:GREGORIAN
BEGIN:VEVENT
UID:8f751e2e-5dcd-11f0-bfd7-0a58a9feac02
DTSTAMP:20250710T203630Z
SUMMARY:Cheers to the Memories - Gathering in Gratitude Adult Social
URL;VALUE=URI:https://www.materdeicatholic.com/calendar/8403520/cheers-to-t
 he-memories-gathering-in-gratitude-adult-social
DTSTART:20251120T233000Z
DTEND:20251121T023000Z
END:VEVENT
END:VCALENDAR
