BEGIN:VCALENDAR
VERSION:2.0
PRODID:SchoolNow
CALSCALE:GREGORIAN
BEGIN:VEVENT
UID:bf9fd338-5ceb-11f0-b461-0a58a9feac02
DTSTAMP:20250709T174005Z
SUMMARY:Gr. 7 & 8 Parent Coffee Talk
URL;VALUE=URI:https://www.materdeicatholic.com/calendar/8399509/gr-7-8-pare
 nt-coffee-talk
DTSTART:20251118T133000Z
DTEND:20251118T143000Z
END:VEVENT
END:VCALENDAR
