BEGIN:VCALENDAR
VERSION:2.0
PRODID:SchoolNow
CALSCALE:GREGORIAN
BEGIN:VEVENT
UID:85d854cc-5ceb-11f0-84c0-0a58a9feac02
DTSTAMP:20250709T173828Z
SUMMARY:Home & School Food Day
URL;VALUE=URI:https://www.materdeicatholic.com/calendar/8399508/home-school
 -food-day
DTSTART;VALUE=DATE:20251114
DTEND;VALUE=DATE:20251115
END:VEVENT
END:VCALENDAR
