BEGIN:VCALENDAR
VERSION:2.0
PRODID:SchoolNow
CALSCALE:GREGORIAN
BEGIN:VEVENT
UID:e48d1a30-5cea-11f0-abab-0a58a9feac02
DTSTAMP:20250709T173357Z
SUMMARY:Veterans Day Celebration at Mater Dei
URL;VALUE=URI:https://www.materdeicatholic.com/calendar/8399506/veterans-da
 y-celebration-at-mater-dei
DTSTART:20251113T150000Z
DTEND:20251113T170000Z
END:VEVENT
END:VCALENDAR
