BEGIN:VCALENDAR
VERSION:2.0
PRODID:SchoolNow
CALSCALE:GREGORIAN
BEGIN:VEVENT
UID:afd6e99c-5cea-11f0-b38f-0a58a9feac02
DTSTAMP:20250709T173229Z
SUMMARY:Home & School Food Day
URL;VALUE=URI:https://www.materdeicatholic.com/calendar/8399505/home-school
 -food-day
DTSTART;VALUE=DATE:20251107
DTEND;VALUE=DATE:20251108
END:VEVENT
END:VCALENDAR
