BEGIN:VCALENDAR
VERSION:2.0
PRODID:SchoolNow
CALSCALE:GREGORIAN
BEGIN:VEVENT
UID:98ed4a78-5cea-11f0-8a4b-0a58a9feac02
DTSTAMP:20250709T173150Z
SUMMARY:Safe Environment Lessons
URL;VALUE=URI:https://www.materdeicatholic.com/calendar/8399504/safe-enviro
 nment-lessons
DTSTART;VALUE=DATE:20251103
DTEND;VALUE=DATE:20251108
END:VEVENT
END:VCALENDAR
