BEGIN:VCALENDAR
VERSION:2.0
PRODID:SchoolNow
CALSCALE:GREGORIAN
BEGIN:VEVENT
UID:736f534a-5cea-11f0-a067-0a58a9feac02
DTSTAMP:20250818T133210Z
SUMMARY:PreK 3 Parent Coffee Talk
URL;VALUE=URI:https://www.materdeicatholic.com/calendar/8399503/prek-3-pare
 nt-coffee-talk
DTSTART:20251103T133000Z
DTEND:20251103T150000Z
END:VEVENT
END:VCALENDAR
