BEGIN:VCALENDAR
VERSION:2.0
PRODID:SchoolNow
CALSCALE:GREGORIAN
BEGIN:VEVENT
UID:556baef2-5cea-11f0-81ff-0a58a9feac02
DTSTAMP:20250709T172957Z
SUMMARY:Winter Uniforms Begin
URL;VALUE=URI:https://www.materdeicatholic.com/calendar/8399501/winter-unif
 orms-begin
DTSTART;VALUE=DATE:20251103
DTEND;VALUE=DATE:20251104
END:VEVENT
END:VCALENDAR
