BEGIN:VCALENDAR
VERSION:2.0
PRODID:SchoolNow
CALSCALE:GREGORIAN
BEGIN:VEVENT
UID:11f01442-5cea-11f0-b007-0a58a9feac02
DTSTAMP:20250910T195442Z
SUMMARY:Installation Mass for NJHS and Student Council Officers
LOCATION:St. Stanislaus Church
URL;VALUE=URI:https://www.materdeicatholic.com/calendar/8399499/installatio
 n-mass-for-njhs-and-student-council-officers
DTSTART:20251002T173000Z
DTEND:20251002T183000Z
END:VEVENT
END:VCALENDAR
