BEGIN:VCALENDAR
VERSION:2.0
PRODID:SchoolNow
CALSCALE:GREGORIAN
BEGIN:VEVENT
UID:ef9729da-5ce9-11f0-b19e-0ed8963db997
DTSTAMP:20250709T172706Z
SUMMARY:All Saints Prayer Service - Gr. 1
LOCATION:St. Stanislaus Church
URL;VALUE=URI:https://www.materdeicatholic.com/calendar/8399498/all-saints-
 prayer-service-gr-1
DTSTART:20251031T173000Z
DTEND:20251031T183000Z
END:VEVENT
END:VCALENDAR
