BEGIN:VCALENDAR
VERSION:2.0
PRODID:SchoolNow
CALSCALE:GREGORIAN
BEGIN:VEVENT
UID:ba8ba9fa-5ce9-11f0-a98d-0a58a9feac02
DTSTAMP:20250818T133736Z
SUMMARY:PreK 4 Parent Coffee Talk
URL;VALUE=URI:https://www.materdeicatholic.com/calendar/8399496/prek-4-pare
 nt-coffee-talk
DTSTART:20251030T123000Z
DTEND:20251030T133000Z
END:VEVENT
END:VCALENDAR
