BEGIN:VCALENDAR
VERSION:2.0
PRODID:SchoolNow
CALSCALE:GREGORIAN
BEGIN:VEVENT
UID:1f6b2950-5ce9-11f0-b3e0-0a58a9feac02
DTSTAMP:20250709T172117Z
SUMMARY:Parent/Teacher Conferences
URL;VALUE=URI:https://www.materdeicatholic.com/calendar/8399495/parent-teac
 her-conferences
DTSTART:20251027T220000Z
DTEND:20251028T000000Z
END:VEVENT
END:VCALENDAR
