BEGIN:VCALENDAR
VERSION:2.0
PRODID:SchoolNow
CALSCALE:GREGORIAN
BEGIN:VEVENT
UID:fe1693c0-5ce8-11f0-9e0d-02638327b561
DTSTAMP:20250709T172021Z
SUMMARY:Parent/Teacher Conferences
URL;VALUE=URI:https://www.materdeicatholic.com/calendar/8399493/parent-teac
 her-conferences
DTSTART:20251027T200000Z
DTEND:20251027T212000Z
END:VEVENT
END:VCALENDAR
