BEGIN:VCALENDAR
VERSION:2.0
PRODID:SchoolNow
CALSCALE:GREGORIAN
BEGIN:VEVENT
UID:b72f1d24-5ce8-11f0-aad7-0affe40e2d29
DTSTAMP:20250709T171822Z
SUMMARY:H&S Trunk or Treat
URL;VALUE=URI:https://www.materdeicatholic.com/calendar/8399492/h-s-trunk-o
 r-treat
DTSTART:20251024T220000Z
DTEND:20251025T000000Z
END:VEVENT
END:VCALENDAR
