BEGIN:VCALENDAR
VERSION:2.0
PRODID:SchoolNow
CALSCALE:GREGORIAN
BEGIN:VEVENT
UID:7f8fe286-5ce8-11f0-8df0-0ed8963db997
DTSTAMP:20250709T171649Z
SUMMARY:Parent/Teacher Conferences
URL;VALUE=URI:https://www.materdeicatholic.com/calendar/8399490/parent-teac
 her-conferences
DTSTART:20251022T163000Z
DTEND:20251022T200000Z
END:VEVENT
END:VCALENDAR
