BEGIN:VCALENDAR
VERSION:2.0
PRODID:SchoolNow
CALSCALE:GREGORIAN
BEGIN:VEVENT
UID:670b57e0-5ce8-11f0-ad64-0a58a9feac02
DTSTAMP:20250709T171607Z
SUMMARY:Parent/Teacher Conferences
URL;VALUE=URI:https://www.materdeicatholic.com/calendar/8399489/parent-teac
 her-conferences
DTSTART:20251022T123000Z
DTEND:20251022T153000Z
END:VEVENT
END:VCALENDAR
