BEGIN:VCALENDAR
VERSION:2.0
PRODID:SchoolNow
CALSCALE:GREGORIAN
BEGIN:VEVENT
UID:4d641f7a-5ce8-11f0-854a-0affe40e2d29
DTSTAMP:20250709T171524Z
SUMMARY:No School
URL;VALUE=URI:https://www.materdeicatholic.com/calendar/8399488/no-school
DTSTART;VALUE=DATE:20251022
DTEND;VALUE=DATE:20251023
END:VEVENT
END:VCALENDAR
