BEGIN:VCALENDAR
VERSION:2.0
PRODID:SchoolNow
CALSCALE:GREGORIAN
BEGIN:VEVENT
UID:34d4fe84-5ce8-11f0-9bbe-0a58a9feac02
DTSTAMP:20250709T171443Z
SUMMARY:Progress Reports for 1st Trimester - Gr. 1-8
URL;VALUE=URI:https://www.materdeicatholic.com/calendar/8399486/progress-re
 ports-for-1st-trimester-gr-1-8
DTSTART;VALUE=DATE:20251020
DTEND;VALUE=DATE:20251021
END:VEVENT
END:VCALENDAR
