BEGIN:VCALENDAR
VERSION:2.0
PRODID:SchoolNow
CALSCALE:GREGORIAN
BEGIN:VEVENT
UID:9e6cf6ae-5ce7-11f0-8bf9-0ed8963db997
DTSTAMP:20250709T171031Z
SUMMARY:Donuts With Dad (M-Z)
URL;VALUE=URI:https://www.materdeicatholic.com/calendar/8399484/donuts-with
 -dad-m-z
DTSTART:20251017T113000Z
DTEND:20251017T123000Z
END:VEVENT
END:VCALENDAR
