BEGIN:VCALENDAR
VERSION:2.0
PRODID:SchoolNow
CALSCALE:GREGORIAN
BEGIN:VEVENT
UID:89ccb7a2-5ce7-11f0-bd18-0a58a9feac02
DTSTAMP:20250709T171058Z
SUMMARY:Donuts With Dad (A-L)
LOCATION:Mater Dei School Gym
URL;VALUE=URI:https://www.materdeicatholic.com/calendar/8399483/donuts-with
 -dad-a-l
DTSTART:20251016T113000Z
DTEND:20251016T123000Z
END:VEVENT
END:VCALENDAR
