BEGIN:VCALENDAR
VERSION:2.0
PRODID:SchoolNow
CALSCALE:GREGORIAN
BEGIN:VEVENT
UID:4e877d3a-5ce7-11f0-9af1-0a58a9feac02
DTSTAMP:20250709T170817Z
SUMMARY:Fall Open House for New Families
URL;VALUE=URI:https://www.materdeicatholic.com/calendar/8399482/fall-open-h
 ouse-for-new-families
DTSTART:20251014T220000Z
DTEND:20251014T230000Z
END:VEVENT
END:VCALENDAR
