BEGIN:VCALENDAR
VERSION:2.0
PRODID:SchoolNow
CALSCALE:GREGORIAN
BEGIN:VEVENT
UID:35c718c8-5ce7-11f0-92da-02685cdb2011
DTSTAMP:20250709T170735Z
SUMMARY:Picture Retake Day
URL;VALUE=URI:https://www.materdeicatholic.com/calendar/8399480/picture-ret
 ake-day
DTSTART;VALUE=DATE:20251013
DTEND;VALUE=DATE:20251014
END:VEVENT
END:VCALENDAR
