BEGIN:VCALENDAR
VERSION:2.0
PRODID:SchoolNow
CALSCALE:GREGORIAN
BEGIN:VEVENT
UID:2d087994-5ce6-11f0-8120-0a58a9feac02
DTSTAMP:20250709T170011Z
SUMMARY:Homeroom Parents Meeting
URL;VALUE=URI:https://www.materdeicatholic.com/calendar/8399467/homeroom-pa
 rents-meeting
DTSTART:20251008T000000Z
DTEND:20251008T003000Z
END:VEVENT
END:VCALENDAR
