BEGIN:VCALENDAR
VERSION:2.0
PRODID:SchoolNow
CALSCALE:GREGORIAN
BEGIN:VEVENT
UID:15a76120-5ce6-11f0-a19b-0a58a9feac02
DTSTAMP:20250709T165932Z
SUMMARY:Home & School General Meeting
URL;VALUE=URI:https://www.materdeicatholic.com/calendar/8399465/home-school
 -general-meeting
DTSTART:20251007T223000Z
DTEND:20251008T000000Z
END:VEVENT
END:VCALENDAR
