BEGIN:VCALENDAR
VERSION:2.0
PRODID:SchoolNow
CALSCALE:GREGORIAN
BEGIN:VEVENT
UID:bd2a1128-5ce5-11f0-bc27-0e5cca9c67d5
DTSTAMP:20250709T165737Z
SUMMARY:No School - Professional Development Day
URL;VALUE=URI:https://www.materdeicatholic.com/calendar/8399463/no-school-p
 rofessional-development-day
DTSTART;VALUE=DATE:20251006
DTEND;VALUE=DATE:20251007
END:VEVENT
END:VCALENDAR
