BEGIN:VCALENDAR
VERSION:2.0
PRODID:SchoolNow
CALSCALE:GREGORIAN
BEGIN:VEVENT
UID:8c38be84-5ce5-11f0-bf78-0ed8963db997
DTSTAMP:20250709T165613Z
SUMMARY:Color Run (After 11:00 Mass)
URL;VALUE=URI:https://www.materdeicatholic.com/calendar/8399462/color-run
DTSTART;VALUE=DATE:20251005
DTEND;VALUE=DATE:20251006
END:VEVENT
END:VCALENDAR
