BEGIN:VCALENDAR
VERSION:2.0
PRODID:SchoolNow
CALSCALE:GREGORIAN
BEGIN:VEVENT
UID:355ee44a-5cdf-11f0-8b50-02685cdb2011
DTSTAMP:20250711T205111Z
SUMMARY:H&S MD Golf Outing
URL;VALUE=URI:https://www.materdeicatholic.com/calendar/8399453/h-s-md-golf
 -outing
DTSTART;VALUE=DATE:20250926
DTEND;VALUE=DATE:20250927
END:VEVENT
END:VCALENDAR
